Workbook

Sheet 총괄
A1: 농식품인력개발원 '25년 7월 중 교육대상자 추천
A2: [과정명 클릭시 해당 시트로 이동]
A3: 연번 | B3: 과정명 | C3: 배정인원 | D3: 신청인원 | E3: 비 고
A4: 합계 | B4: =COUNTA(B5:B18) -> 14 | C4: =SUM(C5:C18) -> 291 | D4: =SUM(D5:D18) -> 0
A5: 1 | B5: =배정인원!B5 -> PLS이해 및 농약 안전 사용(2기) | C5: =배정인원!C5 -> 20
A6: 2 | B6: =배정인원!B6 -> 아스파라거스 재배(2기) | C6: =배정인원!C6 -> 20
A7: 3 | B7: =배정인원!B7 -> 트랙터 운전(3기) | C7: =배정인원!C7 -> 15
A8: 4 | B8: =배정인원!B8 -> 농업기계 전기용접(1기) | C8: =배정인원!C8 -> 20
A9: 5 | B9: =배정인원!B9 -> 예취기 정비(2기) | C9: =배정인원!C9 -> 15
A10: 6 | B10: =배정인원!B10 -> 트랙터 운전(4기) | C10: =배정인원!C10 -> 15
A11: 7 | B11: =배정인원!B11 -> 오프라인 유통 마스터(2기) | C11: =배정인원!C11 -> 28
A12: 8 | B12: =배정인원!B12 -> 농식품기업 원가계산 및 분석실무 | C12: =배정인원!C12 -> 20
A13: 9 | B13: =배정인원!B13 -> 친환경농산물 판로개척 | C13: =배정인원!C13 -> 28
A14: 10 | B14: =배정인원!B14 -> 과일로 만드는 수재잼&청 | C14: =배정인원!C14 -> 20
A15: 11 | B15: =배정인원!B15 -> 브랜드·패키지 디자인 | C15: =배정인원!C15 -> 20
A16: 12 | B16: =배정인원!B16 -> 탄소배출 저감 위한 농업인 역할(온라인강의) | C16: =배정인원!C16 -> 28
... A18: 14 | B18: =배정인원!B18 -> 우리동네 양조장 : 주류중급(증류주) | C18: =배정인원!C18 -> 14
A19: [안내사항] ✱시․군 추천 우선순위를 반영하되, 교육과정에 맞는 영농경력, 영농작목, 학습의지 등 제반사항을 종합적으로 검토하여 과정장이 최종 선발

Sheet 배정인원
A1: 농식품인력개발원 '25년 7월 중 교육과정 배정 인원
A2: (단위 : 명)
A3: 연번 | B3: 과정명 | C3: 합계 | D3: 전주시 | E3: 군산시 | F3: 익산시 | G3: 정읍시 | H3: 남원시 | I3: 김제시 | J3: 완주군 | K3: 진안군 | L3: 무주군 | M3: 장수군 | N3: 임실군 | O3: 순창군 | P3: 고창군 | Q3: 부안군
B4: 합 계 | C4: =SUM(C5:C18) -> 291 | D4: =SUM(D5:D18) -> 24 | E4: =SUM(E5:E18) -> 24 | F4: =SUM(F5:F18) -> 24 | G4: =SUM(G5:G18) -> 24 | H4: =SUM(H5:H18) -> 21 | I4: =SUM(I5:I18) -> 23 | J4: =SUM(J5:J18) -> 20 | ... Q4: =SUM(Q5:Q18) -> 19
A5: 1 | B5: PLS이해 및 농약 안전 사용(2기) | C5: =SUM(D5:Q5) -> 20 | D5: 2 | E5: 2 | F5: 2 | G5: 2 | H5: 2 | I5: 2 | J5: 1 | K5: 1 | L5: 1 | M5: 1 | N5: 1 | O5: 1 | P5: 1 | Q5: 1
A6: 2 | B6: 아스파라거스 재배(2기) | C6: =SUM(D6:Q6) -> 20 | D6: 2 | E6: 2 | F6: 2 | G6: 2 | H6: 2 | I6: 2 | J6: 1 | K6: 1 | L6: 1 | M6: 1 | N6: 1 | O6: 1 | P6: 1 | Q6: 1
A7: 3 | B7: 트랙터 운전(3기) | C7: =SUM(D7:Q7) -> 15 | D7: 1 | E7: 1 | F7: 1 | G7: 1 | H7: 1 | I7: 1 | J7: 1 | K7: 1 | L7: 1 | M7: 2 | N7: 1 | O7: 1 | P7: 1 | Q7: 1
A8: 4 | B8: 농업기계 전기용접(1기) | C8: =SUM(D8:Q8) -> 20 | D8: 2 | E8: 2 | F8: 1 | G8: 1 | H8: 1 | I8: 1 | J8: 1 | K8: 1 | L8: 1 | M8: 1 | N8: 2 | O8: 2 | P8: 2 | Q8: 2
A9: 5 | B9: 예취기 정비(2기) | C9: =SUM(D9:Q9) -> 15 | D9: 1 | E9: 1 | F9: 2 | G9: 1 | H9: 1 | I9: 1 | J9: 1 | K9: 1 | L9: 1 | M9: 1 | N9: 1 | O9: 1 | P9: 1 | Q9: 1
A10: 6 | B10: 트랙터 운전(4기) | C10: =SUM(D10:Q10) -> 15 | D10: 1 | E10: 1 | F10: 1 | G10: 2 | H10: 1 | I10: 1 | J10: 1 | K10: 1 | L10: 1 | M10: 1 | N10: 1 | O10: 1 | P10: 1 | Q10: 1
A11: 7 | B11: 오프라인 유통 마스터(2기) | C11: =SUM(D11:Q11) -> 28 | D11: 2 | E11: 2 | F11: 2 | G11: 2 | H11: 2 | I11: 2 | J11: 2 | K11: 2 | L11: 2 | M11: 2 | N11: 2 | O11: 2 | P11: 2 | Q11: 2
A12: 8 | B12: 농식품기업 원가계산 및 분석실무 | C12: =SUM(D12:Q12) -> 20 | D12: 2 | E12: 2 | F12: 2 | G12: 2 | H12: 1 | I12: 2 | J12: 2 | K12: 1 | L12: 1 | M12: 1 | N12: 1 | O12: 1 | P12: 1 | Q12: 1
A13: 9 | B13: 친환경농산물 판로개척 | C13: =SUM(D13:Q13) -> 28 | D13: 2 | E13: 2 | F13: 2 | G13: 2 | H13: 2 | I13: 2 | J13: 2 | K13: 2 | L13: 2 | M13: 2 | N13: 2 | O13: 2 | P13: 2 | Q13: 2
A14: 10 | B14: 과일로 만드는 수재잼&청 | C14: =SUM(D14:Q14) -> 20 | D14: 2 | E14: 2 | F14: 2 | G14: 2 | H14: 2 | I14: 2 | J14: 1 | K14: 1 | L14: 1 | M14: 1 | N14: 1 | O14: 1 | P14: 1 | Q14: 1
A15: 11 | B15: 브랜드·패키지 디자인 | C15: =SUM(D15:Q15) -> 20 | D15: 2 | E15: 2 | F15: 2 | G15: 2 | H15: 1 | I15: 2 | J15: 2 | K15: 1 | L15: 1 | M15: 1 | N15: 1 | O15: 1 | P15: 1 | Q15: 1
A16: 12 | B16: 탄소배출 저감 위한 농업인 역할(온라인강의) | C16: =SUM(D16:Q16) -> 28 | D16: 2 | E16: 2 | F16: 2 | G16: 2 | H16: 2 | I16: 2 | J16: 2 | K16: 2 | L16: 2 | M16: 2 | N16: 2 | O16: 2 | P16: 2 | Q16: 2
... A18: 14 | B18: 우리동네 양조장 : 주류중급(증류주) | C18: =SUM(D18:Q18) -> 14 | D18: 1 | E18: 1 | F18: 1 | G18: 1 | H18: 1 | I18: 1 | J18: 1 | K18: 1 | L18: 1 | M18: 1 | N18: 1 | O18: 1 | P18: 1 | Q18: 1

Sheet 1
A1: 교육대상자 추천 명단
A2: ○ 과정명 : | C2: =배정인원!B5 -> PLS이해 및 농약 안전 사용(2기)
A3: ○ 기 간 : | C3: 7. 10(목) / 1일 7시간
A4: ○ 대 상 : | C4: 귀농인, 농업인
A5: 연번 | B5: 성 명 | C5: 생년월일 | D5: 주 소 | E5: 연락처 | F5: 성별 | G5: 나이 | H5: 영농경력 | I5: 영농분야
A6: 1 | B6: 홍길동 | C6: 1980.01.01 | D6: 김제시 백구면 신모길 19 | E6: 010-0000-0000 | F6: 남 | G6: =YEAR(TODAY())-YEAR(SUBSTITUTE(C6,".","-")) -> 45 | H6: 3 | I6: 토마토
A7: 2 | G7: =YEAR(TODAY())-YEAR(SUBSTITUTE(C7,".","-")) -> #VALUE!
A8: 3 | G8: =YEAR(TODAY())-YEAR(SUBSTITUTE(C8,".","-")) -> #VALUE!
A9: 4 | G9: =YEAR(TODAY())-YEAR(SUBSTITUTE(C9,".","-")) -> #VALUE!
A10: 5 | G10: =YEAR(TODAY())-YEAR(SUBSTITUTE(C10,".","-")) -> #VALUE!
A11: 6 | G11: =YEAR(TODAY())-YEAR(SUBSTITUTE(C11,".","-")) -> #VALUE!
A12: 7 | G12: =YEAR(TODAY())-YEAR(SUBSTITUTE(C12,".","-")) -> #VALUE!
A13: 8 | G13: =YEAR(TODAY())-YEAR(SUBSTITUTE(C13,".","-")) -> #VALUE!
A14: 9 | G14: =YEAR(TODAY())-YEAR(SUBSTITUTE(C14,".","-")) -> #VALUE!
A15: 10 | G15: =YEAR(TODAY())-YEAR(SUBSTITUTE(C15,".","-")) -> #VALUE!
A16: [선정 안내사항] ✱ 배정한 인원보다 초과하여 추천할 경우 연번 순위에 의거 배정한 인원만 선정함 (단, 타 시·군의 미 신청으로 추천인원이 계획인원보다 부족할 경우 조정 검토 후 부족한 인원 내에서 차순위자 추가 선정 가능) ✱ 시·군 추천 우선순위를 반영하되, 교육과정에 맞는 영농경력, 영농작목, 학습의지 등 제반사항을 종합적으로 검토하여 과정장이 최종 선발

Sheet 2
A1: 교육대상자 추천 명단
A2: ○ 과정명 : | C2: =배정인원!B6 -> 아스파라거스 재배(2기)
A3: ○ 기 간 : | C3: 7. 15(화) / 1일 7시간
A4: ○ 대 상 : | C4: 귀농인, 농업인
A5: 연번 | B5: 성 명 | C5: 생년월일 | D5: 주 소 | E5: 연락처 | F5: 성별 | G5: 나이 | H5: 영농경력 | I5: 영농분야
A6: 1 | B6: 홍길동 | C6: 1980.01.01 | D6: 김제시 백구면 신모길 19 | E6: 010-0000-0000 | F6: 남 | G6: =YEAR(TODAY())-YEAR(SUBSTITUTE(C6,".","-")) -> 45 | H6: 3 | I6: 곡류가공
A7: 2 | G7: =YEAR(TODAY())-YEAR(SUBSTITUTE(C7,".","-")) -> #VALUE!
A8: 3 | G8: =YEAR(TODAY())-YEAR(SUBSTITUTE(C8,".","-")) -> #VALUE!
A9: 4 | G9: =YEAR(TODAY())-YEAR(SUBSTITUTE(C9,".","-")) -> #VALUE!
A10: 5 | G10: =YEAR(TODAY())-YEAR(SUBSTITUTE(C10,".","-")) -> #VALUE!
A11: 6 | G11: =YEAR(TODAY())-YEAR(SUBSTITUTE(C11,".","-")) -> #VALUE!
A12: 7 | G12: =YEAR(TODAY())-YEAR(SUBSTITUTE(C12,".","-")) -> #VALUE!
A13: 8 | G13: =YEAR(TODAY())-YEAR(SUBSTITUTE(C13,".","-")) -> #VALUE!
A14: 9 | G14: =YEAR(TODAY())-YEAR(SUBSTITUTE(C14,".","-")) -> #VALUE!
A15: 10 | G15: =YEAR(TODAY())-YEAR(SUBSTITUTE(C15,".","-")) -> #VALUE!
A16: [선정 안내사항] ✱ 배정한 인원보다 초과하여 추천할 경우 연번 순위에 의거 배정한 인원만 선정함 (단, 타 시·군의 미 신청으로 추천인원이 계획인원보다 부족할 경우 조정 검토 후 부족한 인원 내에서 차순위자 추가 선정 가능) ✱ 시·군 추천 우선순위를 반영하되, 교육과정에 맞는 영농경력, 영농작목, 학습의지 등 제반사항을 종합적으로 검토하여 과정장이 최종 선발

Sheet 3
A1: 교육대상자 추천 명단
A2: ○ 과정명 : | C2: =배정인원!B7 -> 트랙터 운전(3기)
A3: ○ 기 간 : | C3: 7. 1.(화) / 1일
A4: ○ 대 상 : | C4: 1. 트렉터보유 농업인 2. 희망농업인
A5: 연번 | B5: 성 명 | C5: 생년월일 | D5: 주 소 | E5: 연락처 | F5: 성별 | G5: 나이 | H5: 영농경력 | I5: 영농분야
A6: 1 | B6: 홍길동 | C6: 1980.01.01 | D6: 김제시 백구면 신모길 19 | E6: 010-0000-0000 | F6: 남 | G6: =YEAR(TODAY())-YEAR(SUBSTITUTE(C6,".","-")) -> 45 | H6: 3 | I6: 토마토
A7: 2 | G7: =YEAR(TODAY())-YEAR(SUBSTITUTE(C7,".","-")) -> #VALUE!
A8: 3 | G8: =YEAR(TODAY())-YEAR(SUBSTITUTE(C8,".","-")) -> #VALUE!
A9: 4 | G9: =YEAR(TODAY())-YEAR(SUBSTITUTE(C9,".","-")) -> #VALUE!
A10: 5 | G10: =YEAR(TODAY())-YEAR(SUBSTITUTE(C10,".","-")) -> #VALUE!
A11: 6 | G11: =YEAR(TODAY())-YEAR(SUBSTITUTE(C11,".","-")) -> #VALUE!
A12: 7 | G12: =YEAR(TODAY())-YEAR(SUBSTITUTE(C12,".","-")) -> #VALUE!
A13: 8 | G13: =YEAR(TODAY())-YEAR(SUBSTITUTE(C13,".","-")) -> #VALUE!
A14: 9 | G14: =YEAR(TODAY())-YEAR(SUBSTITUTE(C14,".","-")) -> #VALUE!
A15: 10 | G15: =YEAR(TODAY())-YEAR(SUBSTITUTE(C15,".","-")) -> #VALUE!
A16: [선정 안내사항] ✱ 배정한 인원보다 초과하여 추천할 경우 연번 순위에 의거 배정한 인원만 선정함 (단, 타 시·군의 미 신청으로 추천인원이 계획인원보다 부족할 경우 조정 검토 후 부족한 인원 내에서 차순위자 추가 선정 가능) ✱ 시·군 추천 우선순위를 반영하되, 교육과정에 맞는 영농경력, 영농작목, 학습의지 등 제반사항을 종합적으로 검토하여 과정장이 최종 선발

Sheet 4
A1: 교육대상자 추천 명단
A2: ○ 과정명 : | C2: =배정인원!B8 -> 농업기계 전기용접(1기)
A3: ○ 기 간 : | C3: 7. 8.(화) / 1일
A4: ○ 대 상 : | C4: 1. 농업기계보유 농업인 2. 희망 농업인
A5: 연번 | B5: 성 명 | C5: 생년월일 | D5: 주 소 | E5: 연락처 | F5: 성별 | G5: 나이 | H5: 영농경력 | I5: 영농분야
A6: 1 | B6: 홍길동 | C6: 1980.01.01 | D6: 김제시 백구면 신모길 19 | E6: 010-0000-0000 | F6: 남 | G6: =YEAR(TODAY())-YEAR(SUBSTITUTE(C6,".","-")) -> 45 | H6: 3 | I6: 토마토
A7: 2 | G7: =YEAR(TODAY())-YEAR(SUBSTITUTE(C7,".","-")) -> #VALUE!
A8: 3 | G8: =YEAR(TODAY())-YEAR(SUBSTITUTE(C8,".","-")) -> #VALUE!
A9: 4 | G9: =YEAR(TODAY())-YEAR(SUBSTITUTE(C9,".","-")) -> #VALUE!
A10: 5 | G10: =YEAR(TODAY())-YEAR(SUBSTITUTE(C10,".","-")) -> #VALUE!
A11: 6 | G11: =YEAR(TODAY())-YEAR(SUBSTITUTE(C11,".","-")) -> #VALUE!
A12: 7 | G12: =YEAR(TODAY())-YEAR(SUBSTITUTE(C12,".","-")) -> #VALUE!
A13: 8 | G13: =YEAR(TODAY())-YEAR(SUBSTITUTE(C13,".","-")) -> #VALUE!
A14: 9 | G14: =YEAR(TODAY())-YEAR(SUBSTITUTE(C14,".","-")) -> #VALUE!
A15: 10 | G15: =YEAR(TODAY())-YEAR(SUBSTITUTE(C15,".","-")) -> #VALUE!
A16: [선정 안내사항] ✱ 배정한 인원보다 초과하여 추천할 경우 연번 순위에 의거 배정한 인원만 선정함 (단, 타 시·군의 미 신청으로 추천인원이 계획인원보다 부족할 경우 조정 검토 후 부족한 인원 내에서 차순위자 추가 선정 가능) ✱ 시·군 추천 우선순위를 반영하되, 교육과정에 맞는 영농경력, 영농작목, 학습의지 등 제반사항을 종합적으로 검토하여 과정장이 최종 선발

Sheet 5
A1: 교육대상자 추천 명단
A2: ○ 과정명 : | C2: =배정인원!B9 -> 예취기 정비(2기)
A3: ○ 기 간 : | C3: 7. 11.(금) / 1일
A4: ○ 대 상 : | C4: 예취기보유 농업인 희망농업인
A5: 연번 | B5: 성 명 | C5: 생년월일 | D5: 주 소 | E5: 연락처 | F5: 성별 | G5: 나이 | H5: 영농경력 | I5: 영농분야
A6: 1 | B6: 홍길동 | C6: 1980.01.01 | D6: 김제시 백구면 신모길 19 | E6: 010-0000-0000 | F6: 남 | G6: =YEAR(TODAY())-YEAR(SUBSTITUTE(C6,".","-")) -> 45 | H6: 3 | I6: 토마토
A7: 2 | G7: =YEAR(TODAY())-YEAR(SUBSTITUTE(C7,".","-")) -> #VALUE!
A8: 3 | G8: =YEAR(TODAY())-YEAR(SUBSTITUTE(C8,".","-")) -> #VALUE!
A9: 4 | G9: =YEAR(TODAY())-YEAR(SUBSTITUTE(C9,".","-")) -> #VALUE!
A10: 5 | G10: =YEAR(TODAY())-YEAR(SUBSTITUTE(C10,".","-")) -> #VALUE!
A11: 6 | G11: =YEAR(TODAY())-YEAR(SUBSTITUTE(C11,".","-")) -> #VALUE!
A12: 7 | G12: =YEAR(TODAY())-YEAR(SUBSTITUTE(C12,".","-")) -> #VALUE!
A13: 8 | G13: =YEAR(TODAY())-YEAR(SUBSTITUTE(C13,".","-")) -> #VALUE!
A14: 9 | G14: =YEAR(TODAY())-YEAR(SUBSTITUTE(C14,".","-")) -> #VALUE!
A15: 10 | G15: =YEAR(TODAY())-YEAR(SUBSTITUTE(C15,".","-")) -> #VALUE!
A16: [선정 안내사항] ✱ 배정한 인원보다 초과하여 추천할 경우 연번 순위에 의거 배정한 인원만 선정함 (단, 타 시·군의 미 신청으로 추천인원이 계획인원보다 부족할 경우 조정 검토 후 부족한 인원 내에서 차순위자 추가 선정 가능) ✱ 시·군 추천 우선순위를 반영하되, 교육과정에 맞는 영농경력, 영농작목, 학습의지 등 제반사항을 종합적으로 검토하여 과정장이 최종 선발

Sheet 6
A1: 교육대상자 추천 명단
A2: ○ 과정명 : | C2: =배정인원!B10 -> 트랙터 운전(4기) | F2: (이론+실습)
A3: ○ 기 간 : | C3: 7. 16.(수) / 1일
A4: ○ 대 상 : | C4: 1. 트렉터보유 농업인 2. 희망농업인
A5: 연번 | B5: 성 명 | C5: 생년월일 | D5: 주 소 | E5: 연락처 | F5: 성별 | G5: 나이 | H5: 영농경력 | I5: 영농분야
A6: 1 | B6: 홍길동 | C6: 1980.01.01 | D6: 김제시 백구면 신모길 19 | E6: 010-0000-0000 | F6: 남 | G6: =YEAR(TODAY())-YEAR(SUBSTITUTE(C6,".","-")) -> 45 | H6: 3 | I6: 토마토
A7: 2 | G7: =YEAR(TODAY())-YEAR(SUBSTITUTE(C7,".","-")) -> #VALUE!
A8: 3 | D8: ※ 접수시 영농분야 작성요망 | G8: =YEAR(TODAY())-YEAR(SUBSTITUTE(C8,".","-")) -> #VALUE!
A9: 4 | G9: =YEAR(TODAY())-YEAR(SUBSTITUTE(C9,".","-")) -> #VALUE!
A10: 5 | G10: =YEAR(TODAY())-YEAR(SUBSTITUTE(C10,".","-")) -> #VALUE!
A11: 6 | G11: =YEAR(TODAY())-YEAR(SUBSTITUTE(C11,".","-")) -> #VALUE!
A12: 7 | G12: =YEAR(TODAY())-YEAR(SUBSTITUTE(C12,".","-")) -> #VALUE!
A13: 8 | G13: =YEAR(TODAY())-YEAR(SUBSTITUTE(C13,".","-")) -> #VALUE!
A14: 9 | G14: =YEAR(TODAY())-YEAR(SUBSTITUTE(C14,".","-")) -> #VALUE!
A15: 10 | G15: =YEAR(TODAY())-YEAR(SUBSTITUTE(C15,".","-")) -> #VALUE!
A16: [선정 안내사항] ✱ 배정한 인원보다 초과하여 추천할 경우 연번 순위에 의거 배정한 인원만 선정함 (단, 타 시·군의 미 신청으로 추천인원이 계획인원보다 부족할 경우 조정 검토 후 부족한 인원 내에서 차순위자 추가 선정 가능) ✱ 시·군 추천 우선순위를 반영하되, 교육과정에 맞는 영농경력, 영농작목, 학습의지 등 제반사항을 종합적으로 검토하여 과정장이 최종 선발

Sheet 7
A1: 교육대상자 추천 명단
A2: ○ 과정명 : | C2: =배정인원!B11 -> 오프라인 유통 마스터(2기)
A3: ○ 기 간 : | C3: 7. 2.(수) ~ 7. 3.(목) / 2일
A4: ○ 대 상 : | C4: 1. 농업인(1순위) 2. 교육희망인(2순위)
A5: 연번 | B5: 성 명 | C5: 생년월일 | D5: 주 소 | E5: 연락처 | F5: 성별 | G5: 나이 | H5: 영농경력 | I5: 영농분야
A6: 1 | B6: 홍길동 | C6: 1980.01.01 | D6: 김제시 백구면 신모길 19 | E6: 010-0000-0000 | F6: 남 | G6: =YEAR(TODAY())-YEAR(SUBSTITUTE(C6,".","-")) -> 45 | H6: 3 | I6: 토마토
A7: 2 | G7: =YEAR(TODAY())-YEAR(SUBSTITUTE(C7,".","-")) -> #VALUE!
A8: 3 | G8: =YEAR(TODAY())-YEAR(SUBSTITUTE(C8,".","-")) -> #VALUE!
A9: 4 | G9: =YEAR(TODAY())-YEAR(SUBSTITUTE(C9,".","-")) -> #VALUE!
A10: 5 | G10: =YEAR(TODAY())-YEAR(SUBSTITUTE(C10,".","-")) -> #VALUE!
A11: 6 | G11: =YEAR(TODAY())-YEAR(SUBSTITUTE(C11,".","-")) -> #VALUE!
A12: 7 | G12: =YEAR(TODAY())-YEAR(SUBSTITUTE(C12,".","-")) -> #VALUE!
A13: 8 | G13: =YEAR(TODAY())-YEAR(SUBSTITUTE(C13,".","-")) -> #VALUE!
A14: 9 | G14: =YEAR(TODAY())-YEAR(SUBSTITUTE(C14,".","-")) -> #VALUE!
A15: 10 | G15: =YEAR(TODAY())-YEAR(SUBSTITUTE(C15,".","-")) -> #VALUE!
A16: [선정 안내사항] ✱ 배정한 인원보다 초과하여 추천할 경우 연번 순위에 의거 배정한 인원만 선정함 (단, 타 시·군의 미 신청으로 추천인원이 계획인원보다 부족할 경우 조정 검토 후 부족한 인원 내에서 차순위자 추가 선정 가능) ✱ 시·군 추천 우선순위를 반영하되, 교육과정에 맞는 영농경력, 영농작목, 학습의지 등 제반사항을 종합적으로 검토하여 과정장이 최종 선발

Sheet 8
A1: 교육대상자 추천 명단
A2: ○ 과정명 : | C2: =배정인원!B12 -> 농식품기업 원가계산 및 분석실무
A3: ○ 기 간 : | C3: 7. 3.(목) ~ 7. 4.(금) / 2일
A4: ○ 대 상 : | C4: 농식품 기업(가공상품이 있는 기업만 해당) | J4: ※ 노란색부분 반드시 기재(가공상품이 있는 기업만 신청가능)
A5: 연번 | B5: 성 명 | C5: 생년월일 | D5: 주 소 | E5: 연락처 | F5: 성별 | G5: 나이 | H5: 영농경력 | I5: 영농분야 | J5: 기업명 (사업자등록명) | K5: 주력상품분야 (가공품) | L5: 홈페이지/블로그 주소
A6: 1 | B6: 홍길동 | C6: 1980.01.01 | D6: 김제시 백구면 신모길 19 | E6: 010-0000-0000 | F6: 남 | G6: =YEAR(TODAY())-YEAR(SUBSTITUTE(C6,".","-")) -> 45 | H6: 3 | I6: 토마토 | J6: 농업회사법인㈜길동 | K6: 곡물시리얼 | L6: www.gildong.com
A7: 2 | G7: =YEAR(TODAY())-YEAR(SUBSTITUTE(C7,".","-")) -> #VALUE!
A8: 3 | G8: =YEAR(TODAY())-YEAR(SUBSTITUTE(C8,".","-")) -> #VALUE!
A9: 4 | G9: =YEAR(TODAY())-YEAR(SUBSTITUTE(C9,".","-")) -> #VALUE!
A10: 5 | G10: =YEAR(TODAY())-YEAR(SUBSTITUTE(C10,".","-")) -> #VALUE!
A11: 6 | G11: =YEAR(TODAY())-YEAR(SUBSTITUTE(C11,".","-")) -> #VALUE!
A12: 7 | G12: =YEAR(TODAY())-YEAR(SUBSTITUTE(C12,".","-")) -> #VALUE!
A13: 8 | G13: =YEAR(TODAY())-YEAR(SUBSTITUTE(C13,".","-")) -> #VALUE!
A14: 9 | G14: =YEAR(TODAY())-YEAR(SUBSTITUTE(C14,".","-")) -> #VALUE!
A15: 10 | G15: =YEAR(TODAY())-YEAR(SUBSTITUTE(C15,".","-")) -> #VALUE!
A16: [선정 안내사항] ✱ 배정한 인원보다 초과하여 추천할 경우 연번 순위에 의거 배정한 인원만 선정함 (단, 타 시·군의 미 신청으로 추천인원이 계획인원보다 부족할 경우 조정 검토 후 부족한 인원 내에서 차순위자 추가 선정 가능) ✱ 시·군 추천 우선순위를 반영하되, 교육과정에 맞는 영농경력, 영농작목, 학습의지 등 제반사항을 종합적으로 검토하여 과정장이 최종 선발

Sheet 9
A1: 교육대상자 추천 명단
A2: ○ 과정명 : | C2: =배정인원!B13 -> 친환경농산물 판로개척
A3: ○ 기 간 : | C3: 7. 9.(수) / 1일
A4: ○ 대 상 : | C4: 1. 친환경농업인(1순위) (수료증 제출 시 인정) 2. 농업인 및 교육희망인(2순위)
A5: 연번 | B5: 성 명 | C5: 생년월일 | D5: 주 소 | E5: 연락처 | F5: 성별 | G5: 나이 | H5: 영농경력 | I5: 영농분야 | J5: 친환경 인증 여부 (o,x)
A6: 1 | B6: 홍길동 | C6: 1980.01.01 | D6: 김제시 백구면 신모길 19 | E6: 010-0000-0000 | F6: 남 | G6: =YEAR(TODAY())-YEAR(SUBSTITUTE(C6,".","-")) -> 45 | H6: 3 | I6: 토마토 | J6: o
A7: 2 | G7: =YEAR(TODAY())-YEAR(SUBSTITUTE(C7,".","-")) -> #VALUE!
A8: 3 | G8: =YEAR(TODAY())-YEAR(SUBSTITUTE(C8,".","-")) -> #VALUE!
A9: 4 | G9: =YEAR(TODAY())-YEAR(SUBSTITUTE(C9,".","-")) -> #VALUE!
A10: 5 | G10: =YEAR(TODAY())-YEAR(SUBSTITUTE(C10,".","-")) -> #VALUE!
A11: 6 | G11: =YEAR(TODAY())-YEAR(SUBSTITUTE(C11,".","-")) -> #VALUE!
A12: 7 | G12: =YEAR(TODAY())-YEAR(SUBSTITUTE(C12,".","-")) -> #VALUE!
A13: 8 | G13: =YEAR(TODAY())-YEAR(SUBSTITUTE(C13,".","-")) -> #VALUE!
A14: 9 | G14: =YEAR(TODAY())-YEAR(SUBSTITUTE(C14,".","-")) -> #VALUE!
A15: 10 | G15: =YEAR(TODAY())-YEAR(SUBSTITUTE(C15,".","-")) -> #VALUE!
A16: [선정 안내사항] ✱ 배정한 인원보다 초과하여 추천할 경우 연번 순위에 의거 배정한 인원만 선정함 (단, 타 시·군의 미 신청으로 추천인원이 계획인원보다 부족할 경우 조정 검토 후 부족한 인원 내에서 차순위자 추가 선정 가능) ✱ 시·군 추천 우선순위를 반영하되, 교육과정에 맞는 영농경력, 영농작목, 학습의지 등 제반사항을 종합적으로 검토하여 과정장이 최종 선발

Sheet 10
A1: 교육대상자 추천 명단
A2: ○ 과정명 : | C2: =배정인원!B14 -> 과일로 만드는 수재잼&청 | G2: (이론 + 실습)
A3: ○ 기 간 : | C3: 2025. 7. 10.(목) / 1일
A4: ○ 선발순위 : | C4: 1순위 : 농업인
A5: 연번 | B5: 성 명 | C5: 생년월일 | D5: 주 소 | E5: 연락처 | F5: 성별 | G5: 나이 | H5: 영농경력 | I5: 영농분야 | J5: 농업인유무 (o,x)
A6: 1 | B6: 홍길동 | C6: 1980.01.01 | D6: 김제시 백구면 신모길 19 | E6: 010-0000-0000 | F6: 남 | G6: =YEAR(TODAY())-YEAR(SUBSTITUTE(C6,".","-")) -> 45 | H6: 3 | I6: 토마토 | J6: o
A7: 2 | G7: =YEAR(TODAY())-YEAR(SUBSTITUTE(C7,".","-")) -> #VALUE!
A8: 3 | G8: =YEAR(TODAY())-YEAR(SUBSTITUTE(C8,".","-")) -> #VALUE!
A9: 4 | G9: =YEAR(TODAY())-YEAR(SUBSTITUTE(C9,".","-")) -> #VALUE!
A10: 5 | G10: =YEAR(TODAY())-YEAR(SUBSTITUTE(C10,".","-")) -> #VALUE!
A11: 6 | G11: =YEAR(TODAY())-YEAR(SUBSTITUTE(C11,".","-")) -> #VALUE!
A12: 7 | G12: =YEAR(TODAY())-YEAR(SUBSTITUTE(C12,".","-")) -> #VALUE!
A13: 8 | G13: =YEAR(TODAY())-YEAR(SUBSTITUTE(C13,".","-")) -> #VALUE!
A14: 9 | G14: =YEAR(TODAY())-YEAR(SUBSTITUTE(C14,".","-")) -> #VALUE!
A15: 10 | G15: =YEAR(TODAY())-YEAR(SUBSTITUTE(C15,".","-")) -> #VALUE!
A16: [선정 안내사항] ✱ 배정한 인원보다 초과하여 추천할 경우 연번 순위에 의거 배정한 인원만 선정함 (단, 타 시·군의 미 신청으로 추천인원이 계획인원보다 부족할 경우 조정 검토 후 부족한 인원 내에서 차순위자 추가 선정 가능) ✱ 시·군 추천 우선순위를 반영하되, 교육과정에 맞는 영농경력, 영농작목, 학습의지 등 제반사항을 종합적으로 검토하여 과정장이 최종 선발

Sheet 11
A1: 교육대상자 추천 명단
A2: ○ 과정명 : | C2: =배정인원!B15 -> 브랜드·패키지 디자인
A3: ○ 기 간 : | C3: 7. 14.(월) ~ 7. 15.(화), 7. 21.(월) ~ 7. 22.(화) / 4일
A4: ○ 대 상 : | C4: 농식품기업, 농업인
A5: 연번 | B5: 성 명 | C5: 생년월일 | D5: 주 소 | E5: 연락처 | F5: 성별 | G5: 나이 | H5: 영농경력 | I5: 영농분야
A6: 1 | B6: 홍길동 | C6: 1980.01.01 | D6: 김제시 백구면 신모길 19 | E6: 010-0000-0000 | F6: 남 | G6: =YEAR(TODAY())-YEAR(SUBSTITUTE(C6,".","-")) -> 45 | H6: 3 | I6: 토마토
A7: 2 | G7: =YEAR(TODAY())-YEAR(SUBSTITUTE(C7,".","-")) -> #VALUE!
A8: 3 | G8: =YEAR(TODAY())-YEAR(SUBSTITUTE(C8,".","-")) -> #VALUE!
A9: 4 | G9: =YEAR(TODAY())-YEAR(SUBSTITUTE(C9,".","-")) -> #VALUE!
A10: 5 | G10: =YEAR(TODAY())-YEAR(SUBSTITUTE(C10,".","-")) -> #VALUE!
A11: 6 | G11: =YEAR(TODAY())-YEAR(SUBSTITUTE(C11,".","-")) -> #VALUE!
A12: 7 | G12: =YEAR(TODAY())-YEAR(SUBSTITUTE(C12,".","-")) -> #VALUE!
A13: 8 | G13: =YEAR(TODAY())-YEAR(SUBSTITUTE(C13,".","-")) -> #VALUE!
A14: 9 | G14: =YEAR(TODAY())-YEAR(SUBSTITUTE(C14,".","-")) -> #VALUE!
A15: 10 | G15: =YEAR(TODAY())-YEAR(SUBSTITUTE(C15,".","-")) -> #VALUE!
A16: [선정 안내사항] ✱ 배정한 인원보다 초과하여 추천할 경우 연번 순위에 의거 배정한 인원만 선정함 (단, 타 시·군의 미 신청으로 추천인원이 계획인원보다 부족할 경우 조정 검토 후 부족한 인원 내에서 차순위자 추가 선정 가능) ✱ 시·군 추천 우선순위를 반영하되, 교육과정에 맞는 영농경력, 영농작목, 학습의지 등 제반사항을 종합적으로 검토하여 과정장이 최종 선발

Sheet 12
A1: 교육대상자 추천 명단
A2: ○ 과정명 : | C2: =배정인원!B16 -> 탄소배출 저감 위한 농업인 역할(온라인강의) | G2: (온라인 교육임)
A3: ○ 기 간 : | C3: 7. 16.(수) / 1일
A4: ○ 대 상 : | C4: 1. 농업인(1순위) 2. 교육희망인(2순위)
A5: 연번 | B5: 성 명 | C5: 생년월일 | D5: 주 소 | E5: 연락처 | F5: 성별 | G5: 나이 | H5: 영농경력 | I5: 영농분야
A6: 1 | B6: 홍길동 | C6: 1980.01.01 | D6: 김제시 백구면 신모길 19 | E6: 010-0000-0000 | F6: 남 | G6: =YEAR(TODAY())-YEAR(SUBSTITUTE(C6,".","-")) -> 45 | H6: 3 | I6: 토마토
A7: 2 | G7: =YEAR(TODAY())-YEAR(SUBSTITUTE(C7,".","-")) -> #VALUE!
A8: 3 | G8: =YEAR(TODAY())-YEAR(SUBSTITUTE(C8,".","-")) -> #VALUE!
A9: 4 | G9: =YEAR(TODAY())-YEAR(SUBSTITUTE(C9,".","-")) -> #VALUE!
A10: 5 | G10: =YEAR(TODAY())-YEAR(SUBSTITUTE(C10,".","-")) -> #VALUE!
A11: 6 | G11: =YEAR(TODAY())-YEAR(SUBSTITUTE(C11,".","-")) -> #VALUE!
A12: 7 | G12: =YEAR(TODAY())-YEAR(SUBSTITUTE(C12,".","-")) -> #VALUE!
A13: 8 | G13: =YEAR(TODAY())-YEAR(SUBSTITUTE(C13,".","-")) -> #VALUE!
A14: 9 | G14: =YEAR(TODAY())-YEAR(SUBSTITUTE(C14,".","-")) -> #VALUE!
A15: 10 | G15: =YEAR(TODAY())-YEAR(SUBSTITUTE(C15,".","-")) -> #VALUE!
A16: [선정 안내사항] ✱ 배정한 인원보다 초과하여 추천할 경우 연번 순위에 의거 배정한 인원만 선정함 (단, 타 시·군의 미 신청으로 추천인원이 계획인원보다 부족할 경우 조정 검토 후 부족한 인원 내에서 차순위자 추가 선정 가능) ✱ 시·군 추천 우선순위를 반영하되, 교육과정에 맞는 영농경력, 영농작목, 학습의지 등 제반사항을 종합적으로 검토하여 과정장이 최종 선발

Sheet 13
A1: 교육대상자 추천 명단
A2: ○ 과정명 : | C2: =배정인원!B17 -> 농업법인 설립절차(2기)
A3: ○ 기 간 : | C3: 7. 24.(목) ~ 7. 25.(금) / 2일
A4: ○ 대 상 : | C4: 1. 농업인(1순위) 2. 교육희망인(2순위)
A5: 연번 | B5: 성 명 | C5: 생년월일 | D5: 주 소 | E5: 연락처 | F5: 성별 | G5: 나이 | H5: 영농경력 | I5: 영농분야
A6: 1 | B6: 홍길동 | C6: 1980.01.01 | D6: 김제시 백구면 신모길 19 | E6: 010-0000-0000 | F6: 남 | G6: =YEAR(TODAY())-YEAR(SUBSTITUTE(C6,".","-")) -> 45 | H6: 3 | I6: 회계
A7: 2 | G7: =YEAR(TODAY())-YEAR(SUBSTITUTE(C7,".","-")) -> #VALUE!
A8: 3 | G8: =YEAR(TODAY())-YEAR(SUBSTITUTE(C8,".","-")) -> #VALUE!
A9: 4 | G9: =YEAR(TODAY())-YEAR(SUBSTITUTE(C9,".","-")) -> #VALUE!
A10: 5 | G10: =YEAR(TODAY())-YEAR(SUBSTITUTE(C10,".","-")) -> #VALUE!
A11: 6 | G11: =YEAR(TODAY())-YEAR(SUBSTITUTE(C11,".","-")) -> #VALUE!
A12: 7 | G12: =YEAR(TODAY())-YEAR(SUBSTITUTE(C12,".","-")) -> #VALUE!
A13: 8 | G13: =YEAR(TODAY())-YEAR(SUBSTITUTE(C13,".","-")) -> #VALUE!
A14: 9 | G14: =YEAR(TODAY())-YEAR(SUBSTITUTE(C14,".","-")) -> #VALUE!
A15: 10 | G15: =YEAR(TODAY())-YEAR(SUBSTITUTE(C15,".","-")) -> #VALUE!
A16: [선정 안내사항] ✱ 배정한 인원보다 초과하여 추천할 경우 연번 순위에 의거 배정한 인원만 선정함 (단, 타 시·군의 미 신청으로 추천인원이 계획인원보다 부족할 경우 조정 검토 후 부족한 인원 내에서 차순위자 추가 선정 가능) ✱ 시·군 추천 우선순위를 반영하되, 교육과정에 맞는 영농경력, 영농작목, 학습의지 등 제반사항을 종합적으로 검토하여 과정장이 최종 선발

Sheet 14
A1: 교육대상자 추천 명단
A2: ○ 과정명 : | C2: =배정인원!B18 -> 우리동네 양조장 : 주류중급(증류주)
A3: ○ 기 간 : | C3: 7.30/ 8.6/ 8.13/ 8.20/ 8.27 / 5일간
A4: ○ 선발순위 : | C4: 1순위 : 본원 주류초급과정 수료자(농업인) | J4: 수료증 제출
A5: 연번 | B5: 성 명 | C5: 생년월일 | D5: 주 소 | E5: 연락처 | F5: 성별 | G5: 나이 | H5: 영농경력 | I5: 영농분야 | J5: 주류초급수료 (o,x) | K5: 농업인유무 (o,x)
A6: 1 | B6: 홍길동 | C6: 1980.01.01 | D6: 김제시 백구면 신모길 19 | E6: 010-0000-0000 | F6: 남 | G6: =YEAR(TODAY())-YEAR(SUBSTITUTE(C6,".","-")) -> 45 | H6: 3 | I6: 토마토 | J6: o | K6: o
A7: 2 | G7: =YEAR(TODAY())-YEAR(SUBSTITUTE(C7,".","-")) -> #VALUE!
A8: 3 | G8: =YEAR(TODAY())-YEAR(SUBSTITUTE(C8,".","-")) -> #VALUE!
A9: 4 | G9: =YEAR(TODAY())-YEAR(SUBSTITUTE(C9,".","-")) -> #VALUE!
A10: 5 | G10: =YEAR(TODAY())-YEAR(SUBSTITUTE(C10,".","-")) -> #VALUE!
A11: 6 | G11: =YEAR(TODAY())-YEAR(SUBSTITUTE(C11,".","-")) -> #VALUE!
A12: 7 | G12: =YEAR(TODAY())-YEAR(SUBSTITUTE(C12,".","-")) -> #VALUE!
A13: 8 | G13: =YEAR(TODAY())-YEAR(SUBSTITUTE(C13,".","-")) -> #VALUE!
A14: 9 | G14: =YEAR(TODAY())-YEAR(SUBSTITUTE(C14,".","-")) -> #VALUE!
A15: 10 | G15: =YEAR(TODAY())-YEAR(SUBSTITUTE(C15,".","-")) -> #VALUE!
A16: [선정 안내사항] ✱ 배정한 인원보다 초과하여 추천할 경우 연번 순위에 의거 배정한 인원만 선정함 (단, 타 시·군의 미 신청으로 추천인원이 계획인원보다 부족할 경우 조정 검토 후 부족한 인원 내에서 차순위자 추가 선정 가능) ✱ 시·군 추천 우선순위를 반영하되, 교육과정에 맞는 영농경력, 영농작목, 학습의지 등 제반사항을 종합적으로 검토하여 과정장이 최종 선발
